BEGIN:VCALENDAR
VERSION:2.0
PRODID:-//Hampton Beer Outlet - ECPv6.15.20//NONSGML v1.0//EN
CALSCALE:GREGORIAN
METHOD:PUBLISH
X-WR-CALNAME:Hampton Beer Outlet
X-ORIGINAL-URL:https://hamptonbeeroutlet.com
X-WR-CALDESC:Events for Hampton Beer Outlet
REFRESH-INTERVAL;VALUE=DURATION:PT1H
X-Robots-Tag:noindex
X-PUBLISHED-TTL:PT1H
BEGIN:VTIMEZONE
TZID:UTC
BEGIN:STANDARD
TZOFFSETFROM:+0000
TZOFFSETTO:+0000
TZNAME:UTC
DTSTART:20220101T000000
END:STANDARD
END:VTIMEZONE
BEGIN:VEVENT
DTSTART;TZID=UTC:20230407T150000
DTEND;TZID=UTC:20230407T170000
DTSTAMP:20260422T174752
CREATED:20230204T151543Z
LAST-MODIFIED:20230204T151543Z
UID:3279-1680879600-1680886800@hamptonbeeroutlet.com
SUMMARY:Belgica Tasting
DESCRIPTION:
URL:https://hamptonbeeroutlet.com/event/belgica-tasting-5/
LOCATION:Hampton Beer Outlet\, 4706 William Flinn Highway\, Allison Park\, PA\, 15101\, United States
CATEGORIES:Events
END:VEVENT
BEGIN:VEVENT
DTSTART;TZID=UTC:20230407T160000
DTEND;TZID=UTC:20230407T180000
DTSTAMP:20260422T174752
CREATED:20230204T151613Z
LAST-MODIFIED:20230204T151613Z
UID:3281-1680883200-1680890400@hamptonbeeroutlet.com
SUMMARY:Noble Stein Tasting *LOCAL!*
DESCRIPTION:
URL:https://hamptonbeeroutlet.com/event/noble-stein-tasting-local-3/
LOCATION:Hampton Beer Outlet\, 4706 William Flinn Highway\, Allison Park\, PA\, 15101\, United States
CATEGORIES:Events
END:VEVENT
BEGIN:VEVENT
DTSTART;TZID=UTC:20230414T170000
DTEND;TZID=UTC:20230414T190000
DTSTAMP:20260422T174752
CREATED:20230204T151643Z
LAST-MODIFIED:20230204T151643Z
UID:3283-1681491600-1681498800@hamptonbeeroutlet.com
SUMMARY:SweetWater Tasting
DESCRIPTION:
URL:https://hamptonbeeroutlet.com/event/sweetwater-tasting-2/
LOCATION:Hampton Beer Outlet\, 4706 William Flinn Highway\, Allison Park\, PA\, 15101\, United States
CATEGORIES:Events
END:VEVENT
BEGIN:VEVENT
DTSTART;TZID=UTC:20230427T160000
DTEND;TZID=UTC:20230427T180000
DTSTAMP:20260422T174752
CREATED:20230424T150501Z
LAST-MODIFIED:20230424T150501Z
UID:3363-1682611200-1682618400@hamptonbeeroutlet.com
SUMMARY:Blake's Hard Cider
DESCRIPTION:
URL:https://hamptonbeeroutlet.com/event/blakes-hard-cider/
LOCATION:Hampton Beer Outlet\, 4706 William Flinn Highway\, Allison Park\, PA\, 15101\, United States
CATEGORIES:Events
END:VEVENT
BEGIN:VEVENT
DTSTART;TZID=UTC:20230428T160000
DTEND;TZID=UTC:20230428T180000
DTSTAMP:20260422T174752
CREATED:20230424T150534Z
LAST-MODIFIED:20230424T150534Z
UID:3365-1682697600-1682704800@hamptonbeeroutlet.com
SUMMARY:Rusty Rail
DESCRIPTION:
URL:https://hamptonbeeroutlet.com/event/rusty-rail/
LOCATION:Hampton Beer Outlet\, 4706 William Flinn Highway\, Allison Park\, PA\, 15101\, United States
CATEGORIES:Events
END:VEVENT
BEGIN:VEVENT
DTSTART;TZID=UTC:20230428T160000
DTEND;TZID=UTC:20230428T180000
DTSTAMP:20260422T174752
CREATED:20230424T150557Z
LAST-MODIFIED:20230424T150557Z
UID:3367-1682697600-1682704800@hamptonbeeroutlet.com
SUMMARY:Protochol
DESCRIPTION:
URL:https://hamptonbeeroutlet.com/event/protochol/
LOCATION:PA
CATEGORIES:Events
END:VEVENT
BEGIN:VEVENT
DTSTART;TZID=UTC:20230429T120000
DTEND;TZID=UTC:20230429T140000
DTSTAMP:20260422T174752
CREATED:20230424T150622Z
LAST-MODIFIED:20230424T150631Z
UID:3369-1682769600-1682776800@hamptonbeeroutlet.com
SUMMARY:Troegs
DESCRIPTION:
URL:https://hamptonbeeroutlet.com/event/troegs/
LOCATION:Hampton Beer Outlet\, 4706 William Flinn Highway\, Allison Park\, PA\, 15101\, United States
CATEGORIES:Events
END:VEVENT
BEGIN:VEVENT
DTSTART;TZID=UTC:20230429T120000
DTEND;TZID=UTC:20230429T140000
DTSTAMP:20260422T174752
CREATED:20230424T150657Z
LAST-MODIFIED:20230424T150657Z
UID:3371-1682769600-1682776800@hamptonbeeroutlet.com
SUMMARY:Cinderlands (LOCAL!)
DESCRIPTION:
URL:https://hamptonbeeroutlet.com/event/cinderlands-local/
LOCATION:PA
CATEGORIES:Events
END:VEVENT
END:VCALENDAR