BEGIN:VCALENDAR
VERSION:2.0
PRODID:-//Hampton Beer Outlet - ECPv6.15.20//NONSGML v1.0//EN
CALSCALE:GREGORIAN
METHOD:PUBLISH
X-WR-CALNAME:Hampton Beer Outlet
X-ORIGINAL-URL:https://hamptonbeeroutlet.com
X-WR-CALDESC:Events for Hampton Beer Outlet
REFRESH-INTERVAL;VALUE=DURATION:PT1H
X-Robots-Tag:noindex
X-PUBLISHED-TTL:PT1H
BEGIN:VTIMEZONE
TZID:UTC
BEGIN:STANDARD
TZOFFSETFROM:+0000
TZOFFSETTO:+0000
TZNAME:UTC
DTSTART:20200101T000000
END:STANDARD
END:VTIMEZONE
BEGIN:VEVENT
DTSTART;TZID=UTC:20220408T170000
DTEND;TZID=UTC:20220408T190000
DTSTAMP:20260423T074852
CREATED:20220331T162348Z
LAST-MODIFIED:20220331T162348Z
UID:2837-1649437200-1649444400@hamptonbeeroutlet.com
SUMMARY:Labatt's Seltzer Tasting
DESCRIPTION:
URL:https://hamptonbeeroutlet.com/event/labatts-seltzer-tasting/
LOCATION:Hampton Beer Outlet\, 4706 William Flinn Highway\, Allison Park\, PA\, 15101\, United States
CATEGORIES:Events
END:VEVENT
BEGIN:VEVENT
DTSTART;TZID=UTC:20220408T160000
DTEND;TZID=UTC:20220408T180000
DTSTAMP:20260423T074852
CREATED:20220331T161755Z
LAST-MODIFIED:20220331T164200Z
UID:2835-1649433600-1649440800@hamptonbeeroutlet.com
SUMMARY:Great Lakes Tasting
DESCRIPTION:
URL:https://hamptonbeeroutlet.com/event/great-lakes-brewing-company-tasting/
LOCATION:Hampton Beer Outlet\, 4706 William Flinn Highway\, Allison Park\, PA\, 15101\, United States
CATEGORIES:Events
END:VEVENT
BEGIN:VEVENT
DTSTART;TZID=UTC:20220407T170000
DTEND;TZID=UTC:20220407T190000
DTSTAMP:20260423T074852
CREATED:20220331T161711Z
LAST-MODIFIED:20220331T161711Z
UID:2833-1649350800-1649358000@hamptonbeeroutlet.com
SUMMARY:Bevy Brewing Company Tasting
DESCRIPTION:
URL:https://hamptonbeeroutlet.com/event/bevy-brewing-company-tasting/
LOCATION:Hampton Beer Outlet\, 4706 William Flinn Highway\, Allison Park\, PA\, 15101\, United States
CATEGORIES:Events
END:VEVENT
BEGIN:VEVENT
DTSTART;TZID=UTC:20220407T170000
DTEND;TZID=UTC:20220407T190000
DTSTAMP:20260423T074852
CREATED:20220331T161635Z
LAST-MODIFIED:20220331T164054Z
UID:2831-1649350800-1649358000@hamptonbeeroutlet.com
SUMMARY:Arboretum Trail TASTING (LOCAL!)
DESCRIPTION:
URL:https://hamptonbeeroutlet.com/event/arboretum-trail-tasting-local/
LOCATION:Hampton Beer Outlet\, 4706 William Flinn Highway\, Allison Park\, PA\, 15101\, United States
CATEGORIES:Events
END:VEVENT
BEGIN:VEVENT
DTSTART;TZID=UTC:20220402T120000
DTEND;TZID=UTC:20220402T140000
DTSTAMP:20260423T074852
CREATED:20220331T161548Z
LAST-MODIFIED:20220331T161548Z
UID:2829-1648900800-1648908000@hamptonbeeroutlet.com
SUMMARY:Blake's Cider Tasting
DESCRIPTION:
URL:https://hamptonbeeroutlet.com/event/blakes-cider-tasting/
LOCATION:Hampton Beer Outlet\, 4706 William Flinn Highway\, Allison Park\, PA\, 15101\, United States
CATEGORIES:Events
END:VEVENT
BEGIN:VEVENT
DTSTART;TZID=UTC:20220401T170000
DTEND;TZID=UTC:20220401T190000
DTSTAMP:20260423T074852
CREATED:20220331T161359Z
LAST-MODIFIED:20220331T163902Z
UID:2823-1648832400-1648839600@hamptonbeeroutlet.com
SUMMARY:Flying Dog SOURS
DESCRIPTION:
URL:https://hamptonbeeroutlet.com/event/flying-dog-sours-tasting/
LOCATION:PA
CATEGORIES:Events
END:VEVENT
BEGIN:VEVENT
DTSTART;TZID=UTC:20220401T150000
DTEND;TZID=UTC:20220401T170000
DTSTAMP:20260423T074852
CREATED:20220331T161325Z
LAST-MODIFIED:20220331T163818Z
UID:2821-1648825200-1648832400@hamptonbeeroutlet.com
SUMMARY:Wilson-McGinley / Seagram's / Founder's Tasting
DESCRIPTION:
URL:https://hamptonbeeroutlet.com/event/wilson-mcginley-seagrams-escapes-founders-beer-tasting/
LOCATION:Hampton Beer Outlet\, 4706 William Flinn Highway\, Allison Park\, PA\, 15101\, United States
CATEGORIES:Events
END:VEVENT
BEGIN:VEVENT
DTSTART;TZID=UTC:20220331T170000
DTEND;TZID=UTC:20220331T190000
DTSTAMP:20260423T074852
CREATED:20220322T190708Z
LAST-MODIFIED:20220322T190708Z
UID:2818-1648746000-1648753200@hamptonbeeroutlet.com
SUMMARY:Troegs Tasting - Lollihop & Hop Horizon
DESCRIPTION:
URL:https://hamptonbeeroutlet.com/event/troegs-tasting-lollihop-hop-horizon/
LOCATION:Hampton Beer Outlet\, 4706 William Flinn Highway\, Allison Park\, PA\, 15101\, United States
CATEGORIES:Events
END:VEVENT
BEGIN:VEVENT
DTSTART;TZID=UTC:20220326T120000
DTEND;TZID=UTC:20220326T140000
DTSTAMP:20260423T074852
CREATED:20220322T190617Z
LAST-MODIFIED:20220322T190617Z
UID:2816-1648296000-1648303200@hamptonbeeroutlet.com
SUMMARY:Goose Island Tasting
DESCRIPTION:
URL:https://hamptonbeeroutlet.com/event/goose-island-tasting/
LOCATION:PA
CATEGORIES:Events
END:VEVENT
BEGIN:VEVENT
DTSTART;TZID=UTC:20220326T120000
DTEND;TZID=UTC:20220326T140000
DTSTAMP:20260423T074852
CREATED:20220322T190548Z
LAST-MODIFIED:20220322T190548Z
UID:2814-1648296000-1648303200@hamptonbeeroutlet.com
SUMMARY:Crook & Marker Margarita Tasting
DESCRIPTION:
URL:https://hamptonbeeroutlet.com/event/crook-marker-margarita-tasting/
LOCATION:Hampton Beer Outlet\, 4706 William Flinn Highway\, Allison Park\, PA\, 15101\, United States
CATEGORIES:Events
END:VEVENT
BEGIN:VEVENT
DTSTART;TZID=UTC:20220325T170000
DTEND;TZID=UTC:20220325T190000
DTSTAMP:20260423T074852
CREATED:20220322T190408Z
LAST-MODIFIED:20220322T190448Z
UID:2810-1648227600-1648234800@hamptonbeeroutlet.com
SUMMARY:Southern Tier Tasting
DESCRIPTION:
URL:https://hamptonbeeroutlet.com/event/southern-tier-tasting/
LOCATION:Hampton Beer Outlet\, 4706 William Flinn Highway\, Allison Park\, PA\, 15101\, United States
CATEGORIES:Events
END:VEVENT
BEGIN:VEVENT
DTSTART;TZID=UTC:20220325T160000
DTEND;TZID=UTC:20220325T180000
DTSTAMP:20260423T074852
CREATED:20220322T190440Z
LAST-MODIFIED:20220322T190440Z
UID:2812-1648224000-1648231200@hamptonbeeroutlet.com
SUMMARY:Billy Mac TBD Tasting
DESCRIPTION:
URL:https://hamptonbeeroutlet.com/event/billy-mac-tbd-tasting/
LOCATION:Hampton Beer Outlet\, 4706 William Flinn Highway\, Allison Park\, PA\, 15101\, United States
CATEGORIES:Events
END:VEVENT
BEGIN:VEVENT
DTSTART;TZID=UTC:20220324T163000
DTEND;TZID=UTC:20220324T183000
DTSTAMP:20260423T074852
CREATED:20220322T190241Z
LAST-MODIFIED:20220322T190241Z
UID:2808-1648139400-1648146600@hamptonbeeroutlet.com
SUMMARY:Dewey Beer Tasting
DESCRIPTION:
URL:https://hamptonbeeroutlet.com/event/dewey-beer-tasting/
LOCATION:Hampton Beer Outlet\, 4706 William Flinn Highway\, Allison Park\, PA\, 15101\, United States
CATEGORIES:Events
END:VEVENT
BEGIN:VEVENT
DTSTART;TZID=UTC:20220211T110000
DTEND;TZID=UTC:20220212T200000
DTSTAMP:20260423T074852
CREATED:20220210T183717Z
LAST-MODIFIED:20220210T183717Z
UID:2753-1644577200-1644696000@hamptonbeeroutlet.com
SUMMARY:Super Bowl Weekend TASTINGS!
DESCRIPTION:The big game is almost here –– and we’re ramping up our tastings schedule to celebrate.\nFree beer is always the move\, so stop into Hampton Beer Outlet Friday\, Feb. 11\, and Saturday\, Feb. 12 to taste a variety of brews and stock up for Sunday’s showdown. \nHere’s what’s on deck:\n• Friday\, Feb. 11: Stella Artois\, Kona Brewing\, Goose Island (4  – 6 p.m.) \n•Friday\, Feb. 11: Yuengling (4:30 – 6:30 p.m.) \n•Friday\, Feb. 11: Lovaboy Seltzer (5 – 7 p.m.) \n•Saturday\, Feb. 12: Hop Farm (11 a.m. – 1 p.m.) Local Pittsburgh brew! \n•Saturday\, Feb 12: Vecenie Craft sampling (11 a.m. – 1 p.m.) \n•Saturday\, Feb. 12: Sam Smith/Lindemans (1 – 3 p.m) \nIf you’ve visited us in the past\, we look forward to seeing you again. If not\, you can get directions right here. See yinz soon!
URL:https://hamptonbeeroutlet.com/event/super-bowl-tastings-hampton-beer-outlet-pittsburgh/
LOCATION:Hampton Beer Outlet\, 4706 William Flinn Highway\, Allison Park\, PA\, 15101\, United States
CATEGORIES:Events
ATTACH;FMTTYPE=image/jpeg:https://hamptonbeeroutlet.com/wp-content/uploads/2022/02/HBO-SUPER-BOWL-TASTINGS.jpg
END:VEVENT
BEGIN:VEVENT
DTSTART;TZID=UTC:20211124T080000
DTEND;TZID=UTC:20211126T170000
DTSTAMP:20260423T074852
CREATED:20211124T151557Z
LAST-MODIFIED:20211124T151557Z
UID:2699-1637740800-1637946000@hamptonbeeroutlet.com
SUMMARY:Thanksgiving Week TASTINGS! (Plus Guinness glass etching)
DESCRIPTION:Who’s thirsty?!\nYeah\, same here. With Thanksgiving ramping up\, we figured we’d roll out some awesome tastings in the store for everyone to enjoy. \n \nOh yes. That’s right. Troegs\, New Trail\, Heineken\, Amstel\, Yuengling\, Full Pint\, Goose Island\, Ranch Water\, and Smirnoff all join the party! And in case that wasn’t enough\, Guinness stops by Friday for a GLASS ETCHING event. You just gotta get here. \nIf you’ve visited us in the past\, we look forward to seeing you again. If not\, you can get directions right here. See yinz soon!
URL:https://hamptonbeeroutlet.com/event/thanksgiving-week-tastings-hampton-beer-outlet/
LOCATION:Hampton Beer Outlet\, 4706 William Flinn Highway\, Allison Park\, PA\, 15101\, United States
CATEGORIES:Events
ATTACH;FMTTYPE=image/jpeg:https://hamptonbeeroutlet.com/wp-content/uploads/2021/03/storefront-resize-sunny-day.jpg
END:VEVENT
BEGIN:VEVENT
DTSTART;TZID=UTC:20211119T160000
DTEND;TZID=UTC:20211119T180000
DTSTAMP:20260423T074852
CREATED:20211104T141335Z
LAST-MODIFIED:20211104T141335Z
UID:2684-1637337600-1637344800@hamptonbeeroutlet.com
SUMMARY:Full Pint Brewing is BACK! | Tasting Event
DESCRIPTION:Full Pint Beer is BACK!\nAnd the Pittsburgh legends invite you to try a sip of their latest and greatest offerings Friday\, Nov. 19\, from 4-6 PM. \nFull Pint brews some absolute classics –– from their Night of the Living Stout to their Chinookie IPA to some more recent experimental offerings –– and they’ll be handing out samples live in-store for you to enjoy. Stop in\, learn more about their beer and their story\, and maybe even take some home with ya. \nIf you’ve visited us in the past\, we look forward to seeing you again. If not\, you can get directions right here. See yinz soon!
URL:https://hamptonbeeroutlet.com/event/full-pint-brewing-tasting-event-hampton-beer-outlet/
LOCATION:Hampton Beer Outlet\, 4706 William Flinn Highway\, Allison Park\, PA\, 15101\, United States
CATEGORIES:Events
ATTACH;FMTTYPE=image/jpeg:https://hamptonbeeroutlet.com/wp-content/uploads/2021/11/Full-pint-beer-tasting-hampton-beer-outlet.jpg
END:VEVENT
BEGIN:VEVENT
DTSTART;TZID=UTC:20211112T160000
DTEND;TZID=UTC:20211112T180000
DTSTAMP:20260423T074852
CREATED:20211103T201718Z
LAST-MODIFIED:20211103T201718Z
UID:2677-1636732800-1636740000@hamptonbeeroutlet.com
SUMMARY:Troegs TASTING!
DESCRIPTION:Pennsylvania. Legends.\nFriday\, Nov. 12\, from 4-6 PM\, we’re joined by Troegs Independent Brewing –– and we are beyond excited for this one. \nOut of Hershey\, PA\, Troegs is one of Pennsylvania’s oldest and most iconic breweries\, making seasonal classics such as Mad Elf and Nugget Nectar as well as anytime favorites such as Perpetual IPA and Sunshine Pils. What’s made them so special? Come see (and taste) for yourself! \nIf you’ve visited us in the past\, we look forward to seeing you again. If not\, you can get directions right here. See yinz soon!
URL:https://hamptonbeeroutlet.com/event/troegs-beer-tasting-event-hampton-beer-outlet/
LOCATION:Hampton Beer Outlet\, 4706 William Flinn Highway\, Allison Park\, PA\, 15101\, United States
CATEGORIES:Events
ATTACH;FMTTYPE=image/jpeg:https://hamptonbeeroutlet.com/wp-content/uploads/2021/11/Troegs-Beer-Tasting-Nov-12.jpg
END:VEVENT
BEGIN:VEVENT
DTSTART;TZID=UTC:20211105T160000
DTEND;TZID=UTC:20211105T180000
DTSTAMP:20260423T074852
CREATED:20211103T200022Z
LAST-MODIFIED:20211103T200022Z
UID:2674-1636128000-1636135200@hamptonbeeroutlet.com
SUMMARY:Bold Rock TEA PARTY + Stella Artois Tasting
DESCRIPTION:Something new + something classic? Yes please.\nFriday\, Nov. 5\, stop in for a Bold Rock Tea tasting –– then stop by the Stella Artois booth\, too. \nIt’s going down from 4 to 6 PM\, giving you the perfect chance to close out your work week with something delicious. \nIf you’ve visited us in the past\, we look forward to seeing you again. If not\, you can get directions right here. See yinz soon!
URL:https://hamptonbeeroutlet.com/event/bold-rock-tea-stella-artois-tasting-hampton-beer-outlet/
LOCATION:Hampton Beer Outlet\, 4706 William Flinn Highway\, Allison Park\, PA\, 15101\, United States
CATEGORIES:Events
ATTACH;FMTTYPE=image/jpeg:https://hamptonbeeroutlet.com/wp-content/uploads/2021/11/Bold-Rock-stella-tasting-nov-5.jpg
END:VEVENT
BEGIN:VEVENT
DTSTART;TZID=UTC:20210827T090000
DTEND;TZID=UTC:20210829T180000
DTSTAMP:20260423T074852
CREATED:20210810T132137Z
LAST-MODIFIED:20210828T160430Z
UID:2605-1630054800-1630260000@hamptonbeeroutlet.com
SUMMARY:Three-day Anniversary BASH!
DESCRIPTION:It’s time to PARTY!\nHampton Beer Outlet is turning ONE – and we’re pulling out all the stops to celebrate. \nFrom beer to raffles to free prizes to cornhole and more\, we’re throwing a “THANK YOU!” celebration to remember. \nSCHEDULE OF EVENTS:\n*** FRIDAY\, Aug. 27 *** \n• Steelers tailgate special \n• Raffle items \n• Steelers preseason game vs. Panthers on TV \n• Specials prizes for best dressed \n• New Belgium glass etching (3 – 5 PM) \n  \n*** SATURDAY\, Aug. 28 *** \n• EVERY customer gets a prize \n• RAFFLE-PALOOZA! 50-inch TV grand prize\, bicycles\, local beer swag\, popcorn machine\, coolers\, and more will be raffled throughout the day \n• BEEEEEER! Local breweries Hop Farm and The Leaning Cask will be onsite! \n  \n*** SUNDAY\, Aug. 29 *** \n• Cornhole tournament! (Email us at beer@hamptonbeeroutlet.com to sign up your team – limited spots!) \n• Every team gets a shirt \n• Winning teams get special prizes \n• Grillin’ (with beer!)
URL:https://hamptonbeeroutlet.com/event/anniversary-bash/
LOCATION:Hampton Beer Outlet\, 4706 William Flinn Highway\, Allison Park\, PA\, 15101\, United States
CATEGORIES:Events
ATTACH;FMTTYPE=image/jpeg:https://hamptonbeeroutlet.com/wp-content/uploads/2021/08/Hampton-Beer-Outlet-anniversary.jpeg
END:VEVENT
BEGIN:VEVENT
DTSTART;TZID=UTC:20210814T110000
DTEND;TZID=UTC:20210814T130000
DTSTAMP:20260423T074852
CREATED:20210813T192922Z
LAST-MODIFIED:20210813T192938Z
UID:2627-1628938800-1628946000@hamptonbeeroutlet.com
SUMMARY:The Leaning Cask Brewing Company Tasting
DESCRIPTION:The Leaning Cask Brewing Company has entered the chat.\nHailing from Springdale\, Pa.\, the Leaning Cask will hold a tasting at Hampton Beer Outlet Saturday\, Aug. 14\, from 11 AM – 1 PM. If you’ve never had their beers\, this is your chance. \nFor those unfamiliar\, the Leaning Cask produces a vast array of craft ales using traditional English brewing methods –– with an American influence\, of course. \nCome see what this unique and rising local brewery is all about. We hear IPAs\, fruited sours\, and more may just be on deck… \nIf you’ve visited us in the past\, we look forward to seeing you again. If not\, you can get directions right here. See yinz soon!
URL:https://hamptonbeeroutlet.com/event/leaning-cask-tasting/
LOCATION:PA
CATEGORIES:Events
ATTACH;FMTTYPE=image/jpeg:https://hamptonbeeroutlet.com/wp-content/uploads/2021/08/Leaning-Cask-logo-1.jpeg
END:VEVENT
BEGIN:VEVENT
DTSTART;TZID=UTC:20210724T110000
DTEND;TZID=UTC:20210724T130000
DTSTAMP:20260423T074852
CREATED:20210719T173307Z
LAST-MODIFIED:20210719T173307Z
UID:2594-1627124400-1627131600@hamptonbeeroutlet.com
SUMMARY:Full Pint Beer is BACK | Tasting Event
DESCRIPTION:Full Pint Beer is back in the ‘Burgh!\n… And you can get a sip (or more) at Hampton Beer Outlet Saturday\, July 24\, from 11 AM – 1 PM. A Steel City classic for years\, Full Pint recently suffered a scare. As the coronavirus pandemic swept the nation\, Full Pint shut down its operations and declared bankruptcy\, seemingly ending its time here. \nNew ownership swept in though\, and the brand is back and looking to re-establish itself as a Pittsburgh favorite for years to come. \nCome celebrate local beer and taste what the new-look Full Pint is all about! \nIf you’ve visited us in the past\, we look forward to seeing you again. If not\, you can get directions right here. See yinz soon!
URL:https://hamptonbeeroutlet.com/event/full-pint-beer-pittsburgh-tasting-hampton-beer-outlet/
LOCATION:Hampton Beer Outlet\, 4706 William Flinn Highway\, Allison Park\, PA\, 15101\, United States
CATEGORIES:Events
ATTACH;FMTTYPE=image/png:https://hamptonbeeroutlet.com/wp-content/uploads/2021/07/Full-Pint-Beer-rebrand-logo.png
END:VEVENT
BEGIN:VEVENT
DTSTART;TZID=UTC:20210723T160000
DTEND;TZID=UTC:20210723T180000
DTSTAMP:20260423T074852
CREATED:20210719T164707Z
LAST-MODIFIED:20210719T164707Z
UID:2590-1627056000-1627063200@hamptonbeeroutlet.com
SUMMARY:Corona LIMONADA Tasting
DESCRIPTION:Corona makes seltzer?!\nThey sure do. And it’s delicious\, of course. Friday\, July 23\, from 4– 6 PM\, stop into Hampton Beer Outlet to see what the hype’s all about with Cornoa Limonada. \nUsing real ingredients and flavors\, Corona’s new Limonada is a crisp\, refreshing summer beverage that will be at home on the beach\, at a tailgate\, or just at home on the deck. \nThe classic lemon-lime is made with real Mexican lemons and limes and sweetened with real cane sugar\, so it’s perfectly tart and enjoyable for a full session or just a quick refresher. And there just might be some other flavors to try too…  \nIf you’ve visited us in the past\, we look forward to seeing you again. If not\, you can get directions right here. See yinz soon!
URL:https://hamptonbeeroutlet.com/event/corona-limonada-hard-seltzer-tasting-hampton-beer-outlet-pittsburgh/
LOCATION:Hampton Beer Outlet\, 4706 William Flinn Highway\, Allison Park\, PA\, 15101\, United States
CATEGORIES:Events
ATTACH;FMTTYPE=image/png:https://hamptonbeeroutlet.com/wp-content/uploads/2021/07/corona-limonada-resize.png
END:VEVENT
BEGIN:VEVENT
DTSTART;TZID=UTC:20210721T100000
DTEND;TZID=UTC:20210721T130000
DTSTAMP:20260423T074852
CREATED:20210719T155735Z
LAST-MODIFIED:20210719T155735Z
UID:2586-1626861600-1626872400@hamptonbeeroutlet.com
SUMMARY:Twisted Tea TAILGATE TRUCK Tour
DESCRIPTION:Who needs some midweek Twisted Tea?\nIt’s pretty necessary\, right? Wednesday\, July 21 from 10 AM – 1 PM\, the Twisted Tea Tailgate Truck Tour will pull up to Hampton Beer Outlet\, offering samples\, games\, giveaways\, music\, and more. \nIt’s a tailgate\, so we’re going all out. Expect to have fun\, and expect some delicious beverages. \n\n   \n\n\n\n\n\n\n\n\n\n\n View this post on Instagram\n\n\n\n\n\n\n\n\n\n\n\n\n\n\n\n\n\n\n\n\n\n\n \nA post shared by Hampton Beer Outlet (@hamptonbeeroutlet) \n\n\n  \nThis is gonna be the Hump Day break you need — and deserve. \nIf you’ve visited us in the past\, we look forward to seeing you again. If not\, you can get directions right here. See yinz soon!
URL:https://hamptonbeeroutlet.com/event/twisted-tea-tailgate-samples-prizes-tasting-hampton-beer-outlet-pittsburgh/
LOCATION:Hampton Beer Outlet\, 4706 William Flinn Highway\, Allison Park\, PA\, 15101\, United States
CATEGORIES:Events
ATTACH;FMTTYPE=image/png:https://hamptonbeeroutlet.com/wp-content/uploads/2021/07/Twisted-Tea-Tailgate-Truck-sized-Hampton-Beer-Outlet.png
END:VEVENT
BEGIN:VEVENT
DTSTART;TZID=UTC:20210717T110000
DTEND;TZID=UTC:20210717T130000
DTSTAMP:20260423T074852
CREATED:20210716T212643Z
LAST-MODIFIED:20210716T212816Z
UID:2578-1626519600-1626526800@hamptonbeeroutlet.com
SUMMARY:Southern Tier x Bold Rock Cider Tasting
DESCRIPTION:Who likes Southern Tier Beer — and saving money?\nYeah\, we thought so. And you’re in luck: Stop into Hampton Beer Outlet Saturday\, July 17\, from 11 AM – 1 PM to taste the latest and greatest offerings from Southern Tier and to take advantage of some amazing deals. \nDuring the tasting\, Southern Tier will offer a massive discount on their classic double hop machine: 2XIPA. From 11 AM – 1 PM\, six packs of that brew will be discounted to $9.99! And if you buy two or more six-packs\, we’ll knock another dollar off per sixer. Oh yes.\nIf that beer isn’t for you\, though\, Southern Tier will also bring some Lake Shore Fog and NuHaze to the table\, and Bold Rock Cider will also be here to offer a gluten-free alternative.\nThis is gonna be delicious. Promise.\nIf you’ve visited us in the past\, we look forward to seeing you again. If not\, you can get directions right here. See yinz soon!
URL:https://hamptonbeeroutlet.com/event/souther-tier-beer-brewery-bold-rock-cider-tasting-hampton-beer-outlet/
LOCATION:Hampton Beer Outlet\, 4706 William Flinn Highway\, Allison Park\, PA\, 15101\, United States
CATEGORIES:Events
ATTACH;FMTTYPE=image/png:https://hamptonbeeroutlet.com/wp-content/uploads/2021/07/Souther-Tier-beer-logo.png
END:VEVENT
BEGIN:VEVENT
DTSTART;TZID=UTC:20210704T140000
DTEND;TZID=UTC:20210704T160000
DTSTAMP:20260423T074852
CREATED:20210701T155046Z
LAST-MODIFIED:20210701T155155Z
UID:2561-1625407200-1625414400@hamptonbeeroutlet.com
SUMMARY:Sam Adams Wicked Happier Camper Tour!
DESCRIPTION:“I’ll have a Sam Adams.”\nDamn right you will\, Sunday\, July 4 at Hampton Beer Outlet! \nFrom 2 — 4 PM\, Sam Adams’ Wicked Happier Camper Tour comes live to Hampton Beer Outlet\, pouring samples of their latest and greatest brew. \n\n\n  \n\n\n\n\n\n\n\n\n\n\nView this post on Instagram\n\n\n\n\n\n\n\n\n\n\n\n\n\n\n\n\n\n\n\n\n\n\n  \nA post shared by Hampton Beer Outlet (@hamptonbeeroutlet) \n\n\n \nYou probably want to celebrate July 4 in style\, right? What better way than with one of America’s most iconic breweries?. \nIf you’ve visited us in the past\, we look forward to seeing you again. If not\, you can get directions right here. See yinz soon!
URL:https://hamptonbeeroutlet.com/event/samuel-sam-adams-wicked-tasting-hampton-beer-outlet/
LOCATION:Hampton Beer Outlet\, 4706 William Flinn Highway\, Allison Park\, PA\, 15101\, United States
CATEGORIES:Events
ATTACH;FMTTYPE=image/png:https://hamptonbeeroutlet.com/wp-content/uploads/2021/07/sam-adams-wicked-happier-camper-tour-square.png
END:VEVENT
BEGIN:VEVENT
DTSTART;TZID=UTC:20210703T110000
DTEND;TZID=UTC:20210703T130000
DTSTAMP:20260423T074852
CREATED:20210701T153028Z
LAST-MODIFIED:20210701T153028Z
UID:2562-1625310000-1625317200@hamptonbeeroutlet.com
SUMMARY:Saturday Summertime Sip Session
DESCRIPTION:Ready for a summertime refresher?\nSummer beers and seltzers just hit different this time of year. We know that\, so we’re rolling out a terrific trio for a Saturday tasting with Smithworks Seltzer\, Coors Pure\, and Blue Moon Light Sky.\nYou’ll want to stock up for July 4\, right? These are sure to impress and satisfy at your cookout — and we’ll have them at the best prices in town. Try before you buy? Hey\, that just makes it even better. \nIf you’ve visited us in the past\, we look forward to seeing you again. If not\, you can get directions right here. See yinz soon!
URL:https://hamptonbeeroutlet.com/event/smithworks-seltzer-coors-pure-blue-moon-light-sky-tasting-hampton-beer-outlet/
LOCATION:Hampton Beer Outlet\, 4706 William Flinn Highway\, Allison Park\, PA\, 15101\, United States
CATEGORIES:Events
ATTACH;FMTTYPE=image/png:https://hamptonbeeroutlet.com/wp-content/uploads/2021/07/coors-pure-blue-moon-light-sky-smithworks-seltzer.png
END:VEVENT
BEGIN:VEVENT
DTSTART;TZID=UTC:20210702T160000
DTEND;TZID=UTC:20210702T180000
DTSTAMP:20260423T074852
CREATED:20210701T151545Z
LAST-MODIFIED:20210701T151545Z
UID:2560-1625241600-1625248800@hamptonbeeroutlet.com
SUMMARY:Great Lakes + Stella Artois Tasting
DESCRIPTION:Wanna punctuate your Friday with some Great Lakes Brewing Company and Stella Artois?\nIt’s a rhetorical question. Of course you do. Stop into Hampton Beer Outlet Friday\, July 2\, from 4 – 6 PM to taste the latest and greatest offerings from Great Lakes and Stella. You can try out their brews\, ask questions\, and — of course — take some home at the best prices in town to enjoy over the holiday weekend. \nIf you’ve visited us in the past\, we look forward to seeing you again. If not\, you can get directions right here. See yinz soon!
URL:https://hamptonbeeroutlet.com/event/great-lakes-brewing-company-stella-artois-tasting-hampton-beer-outlet/
LOCATION:Hampton Beer Outlet\, 4706 William Flinn Highway\, Allison Park\, PA\, 15101\, United States
CATEGORIES:Events
ATTACH;FMTTYPE=image/png:https://hamptonbeeroutlet.com/wp-content/uploads/2021/07/Great-lakes-brewing-company-stella-artois-png.png
END:VEVENT
BEGIN:VEVENT
DTSTART;TZID=UTC:20210701T160000
DTEND;TZID=UTC:20210701T180000
DTSTAMP:20260423T074852
CREATED:20210701T150308Z
LAST-MODIFIED:20210701T151923Z
UID:2559-1625155200-1625162400@hamptonbeeroutlet.com
SUMMARY:Rusty Rail + Straub Sangria Tasting
DESCRIPTION:Who’s thirsty?!\nSame. Thankfully\, Rusty Rail Brewing and Straub Brewery are here to save the day. \nStop in Thursday\, July 1\, from 4 — 6 PM and sample a variety of Rusty Rail beers — as well as a brand new SANGRIA from Straub. We know\, we know. Straub Sangria sounds blasphemous\, but we’ve tried it\, and we gotta say: You can absolutely teach an old dog new tricks. You’re going to want to check this out. \n \nIf you’ve visited us in the past\, we look forward to seeing you again. If not\, you can get directions right here. See yinz soon!
URL:https://hamptonbeeroutlet.com/event/rusty-rail-brewing-straub-sangria-tasting-event-hampton-beer-outlet-pittsburgh/
LOCATION:Hampton Beer Outlet\, 4706 William Flinn Highway\, Allison Park\, PA\, 15101\, United States
CATEGORIES:Events
ATTACH;FMTTYPE=image/png:https://hamptonbeeroutlet.com/wp-content/uploads/2021/07/rusty-rail-straub-logo.png
END:VEVENT
BEGIN:VEVENT
DTSTART;TZID=UTC:20210610T160000
DTEND;TZID=UTC:20210610T180000
DTSTAMP:20260423T074852
CREATED:20210607T212104Z
LAST-MODIFIED:20210607T212242Z
UID:2546-1623340800-1623348000@hamptonbeeroutlet.com
SUMMARY:Logyard Summer Special Tasting
DESCRIPTION:Summer is (basically) here\, and Logyard Brewing is bringing all the seasonal deliciousness you crave right to Hampton Beer Outlet Thursday\, June 10!\nOut of Kane\, PA (about 2.5 hours northeast of Pittsburgh)\, Logyard represents another strong contender in the Keystone State’s craft beer scene. If you’ve never tried their brew before\, now’s your chance. If you’re a fan of summer beers and particularly summer shandies … you have to come. \nStop in and try their beer or ask questions and learn more about their brand and their current offerings. And of course\, you can buy their beer to take home with you. The fun begins at 4 PM right in our store. \n \nIf you’ve visited us in the past\, we look forward to seeing you again. If not\, you can get directions right here. See yinz soon!
URL:https://hamptonbeeroutlet.com/event/logyard-brewing-summer-special-tasting-hampton-beer-outlet/
LOCATION:Hampton Beer Outlet\, 4706 William Flinn Highway\, Allison Park\, PA\, 15101\, United States
CATEGORIES:Events
ATTACH;FMTTYPE=image/jpeg:https://hamptonbeeroutlet.com/wp-content/uploads/2021/06/Logyard-Brewing-photo-revised.jpg
END:VEVENT
BEGIN:VEVENT
DTSTART;TZID=UTC:20210528T160000
DTEND;TZID=UTC:20210528T180000
DTSTAMP:20260423T074852
CREATED:20210511T151226Z
LAST-MODIFIED:20210511T151226Z
UID:2535-1622217600-1622224800@hamptonbeeroutlet.com
SUMMARY:New Trail Brewing Company Tasting
DESCRIPTION:New Trail Brewing Company is BACK!\nFollowing a successful tasting earlier this month\, New Trail is back in store at Hampton Beer Outlet Friday\, May 28\, from 4 – 6 PM. \nNew Trail’s portfolio continues to expand and grow\, so stop in and see what’s new with them. You can also ask questions and learn more about their brand and their products. Oh\, yeah. And you can also\, you know\, buy their beer to take home. \nIf you’ve visited our store in the past\, we look forward to seeing you again. If not\, you can get directions right here. See yinz soon!
URL:https://hamptonbeeroutlet.com/event/new-trail-brewing-company-tasting-hampton-beer-outlet/
LOCATION:Hampton Beer Outlet\, 4706 William Flinn Highway\, Allison Park\, PA\, 15101\, United States
CATEGORIES:Events
ATTACH;FMTTYPE=image/jpeg:https://hamptonbeeroutlet.com/wp-content/uploads/2021/05/New-Trail-brewing-company-logo.jpg
END:VEVENT
END:VCALENDAR