BEGIN:VCALENDAR
VERSION:2.0
PRODID:-//Hampton Beer Outlet - ECPv6.15.20//NONSGML v1.0//EN
CALSCALE:GREGORIAN
METHOD:PUBLISH
X-WR-CALNAME:Hampton Beer Outlet
X-ORIGINAL-URL:https://hamptonbeeroutlet.com
X-WR-CALDESC:Events for Hampton Beer Outlet
REFRESH-INTERVAL;VALUE=DURATION:PT1H
X-Robots-Tag:noindex
X-PUBLISHED-TTL:PT1H
BEGIN:VTIMEZONE
TZID:UTC
BEGIN:STANDARD
TZOFFSETFROM:+0000
TZOFFSETTO:+0000
TZNAME:UTC
DTSTART:20210101T000000
END:STANDARD
END:VTIMEZONE
BEGIN:VEVENT
DTSTART;TZID=UTC:20220715T170000
DTEND;TZID=UTC:20220715T190000
DTSTAMP:20260423T063912
CREATED:20220715T161738Z
LAST-MODIFIED:20220715T161738Z
UID:3070-1657904400-1657911600@hamptonbeeroutlet.com
SUMMARY:Sly Fox Tasting
DESCRIPTION:
URL:https://hamptonbeeroutlet.com/event/sly-fox-tasting/
LOCATION:Hampton Beer Outlet\, 4706 William Flinn Highway\, Allison Park\, PA\, 15101\, United States
CATEGORIES:Events
END:VEVENT
BEGIN:VEVENT
DTSTART;TZID=UTC:20220715T170000
DTEND;TZID=UTC:20220715T190000
DTSTAMP:20260423T063912
CREATED:20220715T161707Z
LAST-MODIFIED:20220715T161707Z
UID:3067-1657904400-1657911600@hamptonbeeroutlet.com
SUMMARY:Bella Terra Tasting
DESCRIPTION:
URL:https://hamptonbeeroutlet.com/event/bella-terra-tasting-2/
LOCATION:Hampton Beer Outlet\, 4706 William Flinn Highway\, Allison Park\, PA\, 15101\, United States
CATEGORIES:Events
END:VEVENT
BEGIN:VEVENT
DTSTART;TZID=UTC:20220715T160000
DTEND;TZID=UTC:20220715T180000
DTSTAMP:20260423T063912
CREATED:20220715T161623Z
LAST-MODIFIED:20220715T161623Z
UID:3065-1657900800-1657908000@hamptonbeeroutlet.com
SUMMARY:Billy Mac Tasting!
DESCRIPTION:
URL:https://hamptonbeeroutlet.com/event/billy-mac-tasting/
LOCATION:Hampton Beer Outlet\, 4706 William Flinn Highway\, Allison Park\, PA\, 15101\, United States
CATEGORIES:Events
END:VEVENT
BEGIN:VEVENT
DTSTART;TZID=UTC:20220708T160000
DTEND;TZID=UTC:20220708T180000
DTSTAMP:20260423T063912
CREATED:20220701T182728Z
LAST-MODIFIED:20220701T183532Z
UID:3051-1657296000-1657303200@hamptonbeeroutlet.com
SUMMARY:Mike's Freeze Tasting
DESCRIPTION:
URL:https://hamptonbeeroutlet.com/event/mikes-freeze-tasting/
LOCATION:Hampton Beer Outlet\, 4706 William Flinn Highway\, Allison Park\, PA\, 15101\, United States
CATEGORIES:Events
END:VEVENT
BEGIN:VEVENT
DTSTART;TZID=UTC:20220703T120000
DTEND;TZID=UTC:20220703T160000
DTSTAMP:20260423T063912
CREATED:20220622T173323Z
LAST-MODIFIED:20220622T173323Z
UID:3018-1656849600-1656864000@hamptonbeeroutlet.com
SUMMARY:Global Food Truck Onsite!
DESCRIPTION:
URL:https://hamptonbeeroutlet.com/event/global-food-truck-onsite-2/
LOCATION:Hampton Beer Outlet\, 4706 William Flinn Highway\, Allison Park\, PA\, 15101\, United States
CATEGORIES:Events
END:VEVENT
BEGIN:VEVENT
DTSTART;TZID=UTC:20220702T130000
DTEND;TZID=UTC:20220702T150000
DTSTAMP:20260423T063912
CREATED:20220622T173224Z
LAST-MODIFIED:20220622T173224Z
UID:3016-1656766800-1656774000@hamptonbeeroutlet.com
SUMMARY:Southern Tier Tasting
DESCRIPTION:
URL:https://hamptonbeeroutlet.com/event/southern-tier-tasting-2/
LOCATION:Hampton Beer Outlet\, 4706 William Flinn Highway\, Allison Park\, PA\, 15101\, United States
CATEGORIES:Events
END:VEVENT
BEGIN:VEVENT
DTSTART;TZID=UTC:20220702T120000
DTEND;TZID=UTC:20220702T140000
DTSTAMP:20260423T063912
CREATED:20220622T173123Z
LAST-MODIFIED:20220622T173123Z
UID:3014-1656763200-1656770400@hamptonbeeroutlet.com
SUMMARY:96.1's Tall Cathy Onsite!
DESCRIPTION:
URL:https://hamptonbeeroutlet.com/event/96-1s-tall-cathy-onsite/
LOCATION:Hampton Beer Outlet\, 4706 William Flinn Highway\, Allison Park\, PA\, 15101\, United States
CATEGORIES:Events
END:VEVENT
BEGIN:VEVENT
DTSTART;TZID=UTC:20220702T110000
DTEND;TZID=UTC:20220702T130000
DTSTAMP:20260423T063912
CREATED:20220701T182634Z
LAST-MODIFIED:20220701T182634Z
UID:3049-1656759600-1656766800@hamptonbeeroutlet.com
SUMMARY:Simply Hard Lemonade + Topo Chico Tasting
DESCRIPTION:
URL:https://hamptonbeeroutlet.com/event/simply-hard-lemonade-topo-chico-tasting/
LOCATION:Hampton Beer Outlet\, 4706 William Flinn Highway\, Allison Park\, PA\, 15101\, United States
CATEGORIES:Events
END:VEVENT
BEGIN:VEVENT
DTSTART;TZID=UTC:20220701T170000
DTEND;TZID=UTC:20220701T190000
DTSTAMP:20260423T063912
CREATED:20220621T130414Z
LAST-MODIFIED:20220621T130414Z
UID:3012-1656694800-1656702000@hamptonbeeroutlet.com
SUMMARY:Goose Island Tasting
DESCRIPTION:
URL:https://hamptonbeeroutlet.com/event/goose-island-tasting-2/
LOCATION:Hampton Beer Outlet\, 4706 William Flinn Highway\, Allison Park\, PA\, 15101\, United States
CATEGORIES:Events
END:VEVENT
BEGIN:VEVENT
DTSTART;TZID=UTC:20220701T170000
DTEND;TZID=UTC:20220701T190000
DTSTAMP:20260423T063912
CREATED:20220621T130154Z
LAST-MODIFIED:20220621T130154Z
UID:3006-1656694800-1656702000@hamptonbeeroutlet.com
SUMMARY:Voodoo *LOCAL* Tasting
DESCRIPTION:
URL:https://hamptonbeeroutlet.com/event/voodoo-local-tasting/
LOCATION:Hampton Beer Outlet\, 4706 William Flinn Highway\, Allison Park\, PA\, 15101\, United States
CATEGORIES:Events
END:VEVENT
BEGIN:VEVENT
DTSTART;TZID=UTC:20220701T160000
DTEND;TZID=UTC:20220701T200000
DTSTAMP:20260423T063912
CREATED:20220621T125535Z
LAST-MODIFIED:20220621T161953Z
UID:2992-1656691200-1656705600@hamptonbeeroutlet.com
SUMMARY:Global Food Truck
DESCRIPTION:
URL:https://hamptonbeeroutlet.com/event/global-food-truck-2/
LOCATION:Hampton Beer Outlet\, 4706 William Flinn Highway\, Allison Park\, PA\, 15101\, United States
CATEGORIES:Events
END:VEVENT
BEGIN:VEVENT
DTSTART;TZID=UTC:20220701T160000
DTEND;TZID=UTC:20220701T180000
DTSTAMP:20260423T063912
CREATED:20220621T130328Z
LAST-MODIFIED:20220621T130328Z
UID:3010-1656691200-1656698400@hamptonbeeroutlet.com
SUMMARY:Great Lakes Tasting
DESCRIPTION:
URL:https://hamptonbeeroutlet.com/event/great-lakes-tasting-3/
LOCATION:Hampton Beer Outlet\, 4706 William Flinn Highway\, Allison Park\, PA\, 15101\, United States
CATEGORIES:Events
END:VEVENT
BEGIN:VEVENT
DTSTART;TZID=UTC:20220701T160000
DTEND;TZID=UTC:20220701T180000
DTSTAMP:20260423T063912
CREATED:20220621T130227Z
LAST-MODIFIED:20220621T130227Z
UID:3008-1656691200-1656698400@hamptonbeeroutlet.com
SUMMARY:North Country *LOCAL* Tasting
DESCRIPTION:
URL:https://hamptonbeeroutlet.com/event/north-country-local-tasting/
LOCATION:Hampton Beer Outlet\, 4706 William Flinn Highway\, Allison Park\, PA\, 15101\, United States
CATEGORIES:Events
END:VEVENT
BEGIN:VEVENT
DTSTART;TZID=UTC:20220630T170000
DTEND;TZID=UTC:20220630T190000
DTSTAMP:20260423T063912
CREATED:20220621T130101Z
LAST-MODIFIED:20220621T130101Z
UID:3004-1656608400-1656615600@hamptonbeeroutlet.com
SUMMARY:Hop Farm *LOCAL* Tasting
DESCRIPTION:
URL:https://hamptonbeeroutlet.com/event/hop-farm-local-tasting/
LOCATION:Hampton Beer Outlet\, 4706 William Flinn Highway\, Allison Park\, PA\, 15101\, United States
CATEGORIES:Events
END:VEVENT
BEGIN:VEVENT
DTSTART;TZID=UTC:20220630T170000
DTEND;TZID=UTC:20220630T190000
DTSTAMP:20260423T063912
CREATED:20220621T130027Z
LAST-MODIFIED:20220621T130027Z
UID:3002-1656608400-1656615600@hamptonbeeroutlet.com
SUMMARY:Arboretum Trail *LOCAL* Tasting
DESCRIPTION:
URL:https://hamptonbeeroutlet.com/event/arboretum-trail-local-tasting/
LOCATION:Hampton Beer Outlet\, 4706 William Flinn Highway\, Allison Park\, PA\, 15101\, United States
CATEGORIES:Events
END:VEVENT
BEGIN:VEVENT
DTSTART;TZID=UTC:20220630T160000
DTEND;TZID=UTC:20220630T180000
DTSTAMP:20260423T063912
CREATED:20220621T125947Z
LAST-MODIFIED:20220621T125947Z
UID:3000-1656604800-1656612000@hamptonbeeroutlet.com
SUMMARY:Yuengling Tasting
DESCRIPTION:
URL:https://hamptonbeeroutlet.com/event/yuengling-tasting-4/
LOCATION:Hampton Beer Outlet\, 4706 William Flinn Highway\, Allison Park\, PA\, 15101\, United States
CATEGORIES:Events
END:VEVENT
BEGIN:VEVENT
DTSTART;TZID=UTC:20220630T160000
DTEND;TZID=UTC:20220630T180000
DTSTAMP:20260423T063912
CREATED:20220621T125908Z
LAST-MODIFIED:20220621T125908Z
UID:2998-1656604800-1656612000@hamptonbeeroutlet.com
SUMMARY:Bang! Seltzer Tasting
DESCRIPTION:
URL:https://hamptonbeeroutlet.com/event/bang-seltzer-tasting/
LOCATION:Hampton Beer Outlet\, 4706 William Flinn Highway\, Allison Park\, PA\, 15101\, United States
CATEGORIES:Events
END:VEVENT
BEGIN:VEVENT
DTSTART;TZID=UTC:20220629T160000
DTEND;TZID=UTC:20220629T180000
DTSTAMP:20260423T063912
CREATED:20220621T125613Z
LAST-MODIFIED:20220621T125613Z
UID:2994-1656518400-1656525600@hamptonbeeroutlet.com
SUMMARY:Straub Variety Tasting
DESCRIPTION:
URL:https://hamptonbeeroutlet.com/event/straub-variety-tasting/
LOCATION:Hampton Beer Outlet\, 4706 William Flinn Highway\, Allison Park\, PA\, 15101\, United States
CATEGORIES:Events
END:VEVENT
BEGIN:VEVENT
DTSTART;TZID=UTC:20220626T120000
DTEND;TZID=UTC:20220626T160000
DTSTAMP:20260423T063912
CREATED:20220621T125502Z
LAST-MODIFIED:20220621T162118Z
UID:2990-1656244800-1656259200@hamptonbeeroutlet.com
SUMMARY:Global Food Truck
DESCRIPTION:
URL:https://hamptonbeeroutlet.com/event/global-food-truck/
LOCATION:PA
CATEGORIES:Events
END:VEVENT
BEGIN:VEVENT
DTSTART;TZID=UTC:20220625T130000
DTEND;TZID=UTC:20220625T150000
DTSTAMP:20260423T063912
CREATED:20220621T125428Z
LAST-MODIFIED:20220621T125428Z
UID:2988-1656162000-1656169200@hamptonbeeroutlet.com
SUMMARY:Dale's Pale Ale Tasting
DESCRIPTION:
URL:https://hamptonbeeroutlet.com/event/dales-pale-ale-tasting/
LOCATION:PA
CATEGORIES:Events
END:VEVENT
BEGIN:VEVENT
DTSTART;TZID=UTC:20220625T120000
DTEND;TZID=UTC:20220625T140000
DTSTAMP:20260423T063912
CREATED:20220621T125356Z
LAST-MODIFIED:20220621T125356Z
UID:2986-1656158400-1656165600@hamptonbeeroutlet.com
SUMMARY:Butler Brew Works Tasting
DESCRIPTION:
URL:https://hamptonbeeroutlet.com/event/butler-brew-works-tasting/
LOCATION:Hampton Beer Outlet\, 4706 William Flinn Highway\, Allison Park\, PA\, 15101\, United States
CATEGORIES:Events
END:VEVENT
BEGIN:VEVENT
DTSTART;VALUE=DATE:20220625
DTEND;VALUE=DATE:20220626
DTSTAMP:20260423T063912
CREATED:20220621T124927Z
LAST-MODIFIED:20220621T124927Z
UID:2980-1656115200-1656201599@hamptonbeeroutlet.com
SUMMARY:Summer Kickoff PARTY
DESCRIPTION:
URL:https://hamptonbeeroutlet.com/event/summer-kickoff-party/
LOCATION:PA
CATEGORIES:Events
END:VEVENT
BEGIN:VEVENT
DTSTART;TZID=UTC:20220624T170000
DTEND;TZID=UTC:20220624T190000
DTSTAMP:20260423T063912
CREATED:20220621T125311Z
LAST-MODIFIED:20220623T142659Z
UID:2984-1656090000-1656097200@hamptonbeeroutlet.com
SUMMARY:Sam Adams TRUCK
DESCRIPTION:
URL:https://hamptonbeeroutlet.com/event/sam-adams-tasting/
LOCATION:Hampton Beer Outlet\, 4706 William Flinn Highway\, Allison Park\, PA\, 15101\, United States
CATEGORIES:Events
END:VEVENT
BEGIN:VEVENT
DTSTART;TZID=UTC:20220624T170000
DTEND;TZID=UTC:20220624T190000
DTSTAMP:20260423T063912
CREATED:20220621T124855Z
LAST-MODIFIED:20220623T142655Z
UID:2978-1656090000-1656097200@hamptonbeeroutlet.com
SUMMARY:Colin Dunlap
DESCRIPTION:
URL:https://hamptonbeeroutlet.com/event/colin-dunlap-best-of-burgh-beer-tasting/
LOCATION:PA
CATEGORIES:Events
END:VEVENT
BEGIN:VEVENT
DTSTART;TZID=UTC:20220624T160000
DTEND;TZID=UTC:20220624T200000
DTSTAMP:20260423T063912
CREATED:20220621T124730Z
LAST-MODIFIED:20220623T142722Z
UID:2976-1656086400-1656100800@hamptonbeeroutlet.com
SUMMARY:Global Food Truck
DESCRIPTION:
URL:https://hamptonbeeroutlet.com/event/global-food-truck-onsite/
LOCATION:PA
CATEGORIES:Events
END:VEVENT
BEGIN:VEVENT
DTSTART;TZID=UTC:20220623T170000
DTEND;TZID=UTC:20220623T190000
DTSTAMP:20260423T063912
CREATED:20220621T124640Z
LAST-MODIFIED:20220621T124640Z
UID:2974-1656003600-1656010800@hamptonbeeroutlet.com
SUMMARY:Bell's Brewing Tasting
DESCRIPTION:
URL:https://hamptonbeeroutlet.com/event/bells-brewing-tasting/
LOCATION:Hampton Beer Outlet\, 4706 William Flinn Highway\, Allison Park\, PA\, 15101\, United States
CATEGORIES:Events
END:VEVENT
BEGIN:VEVENT
DTSTART;TZID=UTC:20220611T140000
DTEND;TZID=UTC:20220611T160000
DTSTAMP:20260423T063912
CREATED:20220524T173335Z
LAST-MODIFIED:20220524T173335Z
UID:2953-1654956000-1654963200@hamptonbeeroutlet.com
SUMMARY:Voodoo Brewing Tasting (LOCAL!)
DESCRIPTION:
URL:https://hamptonbeeroutlet.com/event/voodoo-brewing-tasting-local/
LOCATION:PA
CATEGORIES:Events
END:VEVENT
BEGIN:VEVENT
DTSTART;TZID=UTC:20220610T160000
DTEND;TZID=UTC:20220610T180000
DTSTAMP:20260423T063912
CREATED:20220524T173203Z
LAST-MODIFIED:20220524T173203Z
UID:2951-1654876800-1654884000@hamptonbeeroutlet.com
SUMMARY:Great Lakes Tasting
DESCRIPTION:
URL:https://hamptonbeeroutlet.com/event/great-lakes-tasting-2/
LOCATION:Hampton Beer Outlet\, 4706 William Flinn Highway\, Allison Park\, PA\, 15101\, United States
CATEGORIES:Events
END:VEVENT
BEGIN:VEVENT
DTSTART;TZID=UTC:20220528T120000
DTEND;TZID=UTC:20220528T140000
DTSTAMP:20260423T063912
CREATED:20220524T173030Z
LAST-MODIFIED:20220524T173030Z
UID:2949-1653739200-1653746400@hamptonbeeroutlet.com
SUMMARY:Arboretum Trail Tasting (LOCAL!)
DESCRIPTION:
URL:https://hamptonbeeroutlet.com/event/arboretum-trail-tasting-local-2/
LOCATION:Hampton Beer Outlet\, 4706 William Flinn Highway\, Allison Park\, PA\, 15101\, United States
CATEGORIES:Events
END:VEVENT
BEGIN:VEVENT
DTSTART;TZID=UTC:20220528T110000
DTEND;TZID=UTC:20220528T130000
DTSTAMP:20260423T063912
CREATED:20220331T165317Z
LAST-MODIFIED:20220524T172756Z
UID:2891-1653735600-1653742800@hamptonbeeroutlet.com
SUMMARY:Jack Daniels Cooler Tasting
DESCRIPTION:
URL:https://hamptonbeeroutlet.com/event/wilson-mcginley-tasting-2/
LOCATION:Hampton Beer Outlet\, 4706 William Flinn Highway\, Allison Park\, PA\, 15101\, United States
CATEGORIES:Events
END:VEVENT
END:VCALENDAR