BEGIN:VCALENDAR
VERSION:2.0
PRODID:-//Hampton Beer Outlet - ECPv6.15.20//NONSGML v1.0//EN
CALSCALE:GREGORIAN
METHOD:PUBLISH
X-WR-CALNAME:Hampton Beer Outlet
X-ORIGINAL-URL:https://hamptonbeeroutlet.com
X-WR-CALDESC:Events for Hampton Beer Outlet
REFRESH-INTERVAL;VALUE=DURATION:PT1H
X-Robots-Tag:noindex
X-PUBLISHED-TTL:PT1H
BEGIN:VTIMEZONE
TZID:UTC
BEGIN:STANDARD
TZOFFSETFROM:+0000
TZOFFSETTO:+0000
TZNAME:UTC
DTSTART:20220101T000000
END:STANDARD
END:VTIMEZONE
BEGIN:VEVENT
DTSTART;TZID=UTC:20230820T120000
DTEND;TZID=UTC:20230820T180000
DTSTAMP:20260423T112314
CREATED:20230801T152945Z
LAST-MODIFIED:20230805T153745Z
UID:3486-1692532800-1692554400@hamptonbeeroutlet.com
SUMMARY:Cornhole Tournament!
DESCRIPTION:Our third annual anniversary celebration is here! \nThe cornhole tournament is back\, and it’s bigger and better than ever. Contact us at beer@hamptonbeeroutlet.com to register. Spots are limited! \nWe’ll have prizes\, beer\, specials\, music\, food (shoutout Gyros ‘N’At!)\, and so much more. This event is a yearly favorite –– and for good reason. Mark your calendars and find out for yourself!
URL:https://hamptonbeeroutlet.com/event/cornhole-tournament-2/
LOCATION:Hampton Beer Outlet\, 4706 William Flinn Highway\, Allison Park\, PA\, 15101\, United States
CATEGORIES:Events
END:VEVENT
END:VCALENDAR