BEGIN:VCALENDAR
VERSION:2.0
PRODID:-//Hampton Beer Outlet - ECPv6.15.20//NONSGML v1.0//EN
CALSCALE:GREGORIAN
METHOD:PUBLISH
X-ORIGINAL-URL:https://hamptonbeeroutlet.com
X-WR-CALDESC:Events for Hampton Beer Outlet
REFRESH-INTERVAL;VALUE=DURATION:PT1H
X-Robots-Tag:noindex
X-PUBLISHED-TTL:PT1H
BEGIN:VTIMEZONE
TZID:UTC
BEGIN:STANDARD
TZOFFSETFROM:+0000
TZOFFSETTO:+0000
TZNAME:UTC
DTSTART:20220101T000000
END:STANDARD
END:VTIMEZONE
BEGIN:VEVENT
DTSTART;TZID=UTC:20230806T140000
DTEND;TZID=UTC:20230806T180000
DTSTAMP:20260423T012336
CREATED:20230801T152233Z
LAST-MODIFIED:20230805T153726Z
UID:3483-1691330400-1691344800@hamptonbeeroutlet.com
SUMMARY:Classic Car Cruise
DESCRIPTION:The Classic Car Cruise is back!\nFor the second straight year\, visit Hampton Beer Outlet to check out some of the sweetest classic rides you’ll find anywhere –– and more. \nWe’ll have a food truck onsite (shoutout Gyros ‘N’At!)\, plenty of specials in the store\, prizes\, and the legendary DJ Denny Dutko spinning from 2-6 PM in the parking lot. Let’s have some fun.
URL:https://hamptonbeeroutlet.com/event/classic-car-cruise/
LOCATION:Hampton Beer Outlet\, 4706 William Flinn Highway\, Allison Park\, PA\, 15101\, United States
CATEGORIES:Events
END:VEVENT
END:VCALENDAR