BEGIN:VCALENDAR
VERSION:2.0
PRODID:-//Hampton Beer Outlet - ECPv6.15.20//NONSGML v1.0//EN
CALSCALE:GREGORIAN
METHOD:PUBLISH
X-ORIGINAL-URL:https://hamptonbeeroutlet.com
X-WR-CALDESC:Events for Hampton Beer Outlet
REFRESH-INTERVAL;VALUE=DURATION:PT1H
X-Robots-Tag:noindex
X-PUBLISHED-TTL:PT1H
BEGIN:VTIMEZONE
TZID:UTC
BEGIN:STANDARD
TZOFFSETFROM:+0000
TZOFFSETTO:+0000
TZNAME:UTC
DTSTART:20220101T000000
END:STANDARD
END:VTIMEZONE
BEGIN:VEVENT
DTSTART;TZID=UTC:20230511T160000
DTEND;TZID=UTC:20230511T180000
DTSTAMP:20260422T214657
CREATED:20230424T153750Z
LAST-MODIFIED:20230424T153750Z
UID:3387-1683820800-1683828000@hamptonbeeroutlet.com
SUMMARY:Moon Haze
DESCRIPTION:
URL:https://hamptonbeeroutlet.com/event/moon-haze/
LOCATION:Hampton Beer Outlet\, 4706 William Flinn Highway\, Allison Park\, PA\, 15101\, United States
CATEGORIES:Events
END:VEVENT
BEGIN:VEVENT
DTSTART;TZID=UTC:20230511T170000
DTEND;TZID=UTC:20230511T190000
DTSTAMP:20260422T214657
CREATED:20230424T153822Z
LAST-MODIFIED:20230424T153822Z
UID:3389-1683824400-1683831600@hamptonbeeroutlet.com
SUMMARY:Full Pint (LOCAL!)
DESCRIPTION:
URL:https://hamptonbeeroutlet.com/event/full-pint-local-2/
LOCATION:Hampton Beer Outlet\, 4706 William Flinn Highway\, Allison Park\, PA\, 15101\, United States
CATEGORIES:Events
END:VEVENT
END:VCALENDAR