BEGIN:VCALENDAR
VERSION:2.0
PRODID:-//Hampton Beer Outlet - ECPv6.15.20//NONSGML v1.0//EN
CALSCALE:GREGORIAN
METHOD:PUBLISH
X-WR-CALNAME:Hampton Beer Outlet
X-ORIGINAL-URL:https://hamptonbeeroutlet.com
X-WR-CALDESC:Events for Hampton Beer Outlet
REFRESH-INTERVAL;VALUE=DURATION:PT1H
X-Robots-Tag:noindex
X-PUBLISHED-TTL:PT1H
BEGIN:VTIMEZONE
TZID:UTC
BEGIN:STANDARD
TZOFFSETFROM:+0000
TZOFFSETTO:+0000
TZNAME:UTC
DTSTART:20220101T000000
END:STANDARD
END:VTIMEZONE
BEGIN:VEVENT
DTSTART;TZID=UTC:20230506T120000
DTEND;TZID=UTC:20230506T140000
DTSTAMP:20260422T214137
CREATED:20230424T151344Z
LAST-MODIFIED:20230424T151344Z
UID:3381-1683374400-1683381600@hamptonbeeroutlet.com
SUMMARY:Picnic Brunch
DESCRIPTION:
URL:https://hamptonbeeroutlet.com/event/picnic-brunch/
LOCATION:Hampton Beer Outlet\, 4706 William Flinn Highway\, Allison Park\, PA\, 15101\, United States
CATEGORIES:Events
END:VEVENT
BEGIN:VEVENT
DTSTART;TZID=UTC:20230506T120000
DTEND;TZID=UTC:20230506T140000
DTSTAMP:20260422T214137
CREATED:20230424T151407Z
LAST-MODIFIED:20230424T151407Z
UID:3383-1683374400-1683381600@hamptonbeeroutlet.com
SUMMARY:El Jimador
DESCRIPTION:
URL:https://hamptonbeeroutlet.com/event/el-jimador/
LOCATION:Hampton Beer Outlet\, 4706 William Flinn Highway\, Allison Park\, PA\, 15101\, United States
CATEGORIES:Events
END:VEVENT
BEGIN:VEVENT
DTSTART;TZID=UTC:20230506T140000
DTEND;TZID=UTC:20230506T160000
DTSTAMP:20260422T214137
CREATED:20230424T152210Z
LAST-MODIFIED:20230424T152210Z
UID:3385-1683381600-1683388800@hamptonbeeroutlet.com
SUMMARY:Lolev (LOCAL!)
DESCRIPTION:
URL:https://hamptonbeeroutlet.com/event/lolev-local/
LOCATION:Hampton Beer Outlet\, 4706 William Flinn Highway\, Allison Park\, PA\, 15101\, United States
CATEGORIES:Events
END:VEVENT
END:VCALENDAR