BEGIN:VCALENDAR
VERSION:2.0
PRODID:-//Hampton Beer Outlet - ECPv6.15.20//NONSGML v1.0//EN
CALSCALE:GREGORIAN
METHOD:PUBLISH
X-ORIGINAL-URL:https://hamptonbeeroutlet.com
X-WR-CALDESC:Events for Hampton Beer Outlet
REFRESH-INTERVAL;VALUE=DURATION:PT1H
X-Robots-Tag:noindex
X-PUBLISHED-TTL:PT1H
BEGIN:VTIMEZONE
TZID:UTC
BEGIN:STANDARD
TZOFFSETFROM:+0000
TZOFFSETTO:+0000
TZNAME:UTC
DTSTART:20220101T000000
END:STANDARD
END:VTIMEZONE
BEGIN:VEVENT
DTSTART;TZID=UTC:20230427T160000
DTEND;TZID=UTC:20230427T180000
DTSTAMP:20260422T195328
CREATED:20230424T150501Z
LAST-MODIFIED:20230424T150501Z
UID:3363-1682611200-1682618400@hamptonbeeroutlet.com
SUMMARY:Blake's Hard Cider
DESCRIPTION:
URL:https://hamptonbeeroutlet.com/event/blakes-hard-cider/
LOCATION:Hampton Beer Outlet\, 4706 William Flinn Highway\, Allison Park\, PA\, 15101\, United States
CATEGORIES:Events
END:VEVENT
END:VCALENDAR