BEGIN:VCALENDAR
VERSION:2.0
PRODID:-//Hampton Beer Outlet - ECPv6.15.20//NONSGML v1.0//EN
CALSCALE:GREGORIAN
METHOD:PUBLISH
X-WR-CALNAME:Hampton Beer Outlet
X-ORIGINAL-URL:https://hamptonbeeroutlet.com
X-WR-CALDESC:Events for Hampton Beer Outlet
REFRESH-INTERVAL;VALUE=DURATION:PT1H
X-Robots-Tag:noindex
X-PUBLISHED-TTL:PT1H
BEGIN:VTIMEZONE
TZID:UTC
BEGIN:STANDARD
TZOFFSETFROM:+0000
TZOFFSETTO:+0000
TZNAME:UTC
DTSTART:20220101T000000
END:STANDARD
END:VTIMEZONE
BEGIN:VEVENT
DTSTART;TZID=UTC:20230317T140000
DTEND;TZID=UTC:20230317T160000
DTSTAMP:20260422T174047
CREATED:20230204T151438Z
LAST-MODIFIED:20230204T151438Z
UID:3275-1679061600-1679068800@hamptonbeeroutlet.com
SUMMARY:Noble Stein Tasting *LOCAL!*
DESCRIPTION:
URL:https://hamptonbeeroutlet.com/event/noble-stein-tasting-local-2/
LOCATION:Hampton Beer Outlet\, 4706 William Flinn Highway\, Allison Park\, PA\, 15101\, United States
CATEGORIES:Events
END:VEVENT
BEGIN:VEVENT
DTSTART;TZID=UTC:20230317T150000
DTEND;TZID=UTC:20230317T170000
DTSTAMP:20260422T174047
CREATED:20230303T183932Z
LAST-MODIFIED:20230303T183932Z
UID:3316-1679065200-1679072400@hamptonbeeroutlet.com
SUMMARY:New Trail Tasting
DESCRIPTION:
URL:https://hamptonbeeroutlet.com/event/new-trail-tasting-2/
LOCATION:Hampton Beer Outlet\, 4706 William Flinn Highway\, Allison Park\, PA\, 15101\, United States
CATEGORIES:Events
END:VEVENT
BEGIN:VEVENT
DTSTART;TZID=UTC:20230317T160000
DTEND;TZID=UTC:20230317T180000
DTSTAMP:20260422T174047
CREATED:20230303T183958Z
LAST-MODIFIED:20230303T183958Z
UID:3318-1679068800-1679076000@hamptonbeeroutlet.com
SUMMARY:Great Lakes Tasting
DESCRIPTION:
URL:https://hamptonbeeroutlet.com/event/great-lakes-tasting-5/
LOCATION:Hampton Beer Outlet\, 4706 William Flinn Highway\, Allison Park\, PA\, 15101\, United States
CATEGORIES:Events
END:VEVENT
END:VCALENDAR