BEGIN:VCALENDAR
VERSION:2.0
PRODID:-//Hampton Beer Outlet - ECPv6.15.20//NONSGML v1.0//EN
CALSCALE:GREGORIAN
METHOD:PUBLISH
X-ORIGINAL-URL:https://hamptonbeeroutlet.com
X-WR-CALDESC:Events for Hampton Beer Outlet
REFRESH-INTERVAL;VALUE=DURATION:PT1H
X-Robots-Tag:noindex
X-PUBLISHED-TTL:PT1H
BEGIN:VTIMEZONE
TZID:UTC
BEGIN:STANDARD
TZOFFSETFROM:+0000
TZOFFSETTO:+0000
TZNAME:UTC
DTSTART:20220101T000000
END:STANDARD
END:VTIMEZONE
BEGIN:VEVENT
DTSTART;TZID=UTC:20230316T150000
DTEND;TZID=UTC:20230316T170000
DTSTAMP:20260422T173522
CREATED:20230303T183851Z
LAST-MODIFIED:20230303T183851Z
UID:3314-1678978800-1678986000@hamptonbeeroutlet.com
SUMMARY:Hop Farm Tasting *LOCAL*
DESCRIPTION:
URL:https://hamptonbeeroutlet.com/event/hop-farm-tasting-local/
LOCATION:Hampton Beer Outlet\, 4706 William Flinn Highway\, Allison Park\, PA\, 15101\, United States
CATEGORIES:Events
END:VEVENT
BEGIN:VEVENT
DTSTART;TZID=UTC:20230316T160000
DTEND;TZID=UTC:20230316T180000
DTSTAMP:20260422T173522
CREATED:20230204T151410Z
LAST-MODIFIED:20230204T151410Z
UID:3273-1678982400-1678989600@hamptonbeeroutlet.com
SUMMARY:Belgica Tasting
DESCRIPTION:
URL:https://hamptonbeeroutlet.com/event/belgica-tasting-4/
LOCATION:Hampton Beer Outlet\, 4706 William Flinn Highway\, Allison Park\, PA\, 15101\, United States
CATEGORIES:Events
END:VEVENT
END:VCALENDAR