BEGIN:VCALENDAR
VERSION:2.0
PRODID:-//Hampton Beer Outlet - ECPv6.15.20//NONSGML v1.0//EN
CALSCALE:GREGORIAN
METHOD:PUBLISH
X-WR-CALNAME:Hampton Beer Outlet
X-ORIGINAL-URL:https://hamptonbeeroutlet.com
X-WR-CALDESC:Events for Hampton Beer Outlet
REFRESH-INTERVAL;VALUE=DURATION:PT1H
X-Robots-Tag:noindex
X-PUBLISHED-TTL:PT1H
BEGIN:VTIMEZONE
TZID:UTC
BEGIN:STANDARD
TZOFFSETFROM:+0000
TZOFFSETTO:+0000
TZNAME:UTC
DTSTART:20220101T000000
END:STANDARD
END:VTIMEZONE
BEGIN:VEVENT
DTSTART;TZID=UTC:20230303T160000
DTEND;TZID=UTC:20230303T180000
DTSTAMP:20260422T132350
CREATED:20230204T151234Z
LAST-MODIFIED:20230204T151234Z
UID:3267-1677859200-1677866400@hamptonbeeroutlet.com
SUMMARY:Sly Fox Tasting
DESCRIPTION:
URL:https://hamptonbeeroutlet.com/event/sly-fox-tasting-3/
LOCATION:Hampton Beer Outlet\, 4706 William Flinn Highway\, Allison Park\, PA\, 15101\, United States
CATEGORIES:Events
END:VEVENT
BEGIN:VEVENT
DTSTART;TZID=UTC:20230303T163000
DTEND;TZID=UTC:20230303T183000
DTSTAMP:20260422T132350
CREATED:20230204T151307Z
LAST-MODIFIED:20230204T151307Z
UID:3269-1677861000-1677868200@hamptonbeeroutlet.com
SUMMARY:Belgica Tasting
DESCRIPTION:
URL:https://hamptonbeeroutlet.com/event/belgica-tasting-3/
LOCATION:Hampton Beer Outlet\, 4706 William Flinn Highway\, Allison Park\, PA\, 15101\, United States
CATEGORIES:Events
END:VEVENT
END:VCALENDAR